BEGIN:VCALENDAR
VERSION:2.0
PRODID:-//Tukios.com/
BEGIN:VEVENT
UID:37f26f80-5749-41fb-8398-c44597491235@www.sanchezfuneralhomes.com
DTSTAMP:20260422T184348Z
DTSTART:20260425T180000Z
DTEND:20260426T010000Z
SUMMARY:Memorial Service
DESCRIPTION:
URL:https://www.sanchezfuneralhomes.com/obituaries/roel-casas
LOCATION: 301 East Second St. / P.O. Box 11  Rio Grande City TX 78582
GEO:26.5720043;-98.7921836
END:VEVENT
END:VCALENDAR