BEGIN:VCALENDAR
VERSION:2.0
PRODID:-//Tukios.com/
BEGIN:VEVENT
UID:0e5fe400-d656-4f1c-a558-782303ba77da@www.sanchezfuneralhomes.com
DTSTAMP:20260422T183917Z
DTSTART:20260425T230000Z
DTEND:20260426T000000Z
SUMMARY:Chapel Service
DESCRIPTION:
URL:https://www.sanchezfuneralhomes.com/obituaries/roel-casas
LOCATION: 301 East Second St. / P.O. Box 11  Rio Grande City TX 78582
GEO:26.5720043;-98.7921836
END:VEVENT
END:VCALENDAR