BEGIN:VCALENDAR
VERSION:2.0
PRODID:-//Tukios.com/
BEGIN:VEVENT
UID:4b566bbf-6e44-4835-a633-85fe111bb4a3@www.sanchezfuneralhomes.com
DTSTAMP:20260422T184307Z
DTSTART:20260426T130000Z
DTEND:20260426T150000Z
SUMMARY:Memorial Service
DESCRIPTION:
URL:https://www.sanchezfuneralhomes.com/obituaries/roel-casas
LOCATION: 301 East Second St. / P.O. Box 11  Rio Grande City TX 78582
GEO:26.5720043;-98.7921836
END:VEVENT
END:VCALENDAR