BEGIN:VCALENDAR
VERSION:2.0
PRODID:-//Tukios.com/
BEGIN:VEVENT
UID:5ddb8bb2-3cf2-4fbc-86cf-9064b6365a64@www.sanchezfuneralhomes.com
DTSTAMP:20260422T184439Z
DTSTART:20260426T140000Z
DTEND:20260426T144500Z
SUMMARY:Chapel Service
DESCRIPTION:
URL:https://www.sanchezfuneralhomes.com/obituaries/roel-casas
LOCATION: 301 East Second St. / P.O. Box 11  Rio Grande City TX 78582
GEO:26.5720043;-98.7921836
END:VEVENT
END:VCALENDAR