BEGIN:VCALENDAR
VERSION:2.0
PRODID:-//Tukios.com/
BEGIN:VEVENT
UID:6bc67d8e-ab07-48c6-a7c1-587a7647be4b@www.sanchezfuneralhomes.com
DTSTAMP:20260422T183917Z
DTSTART:20260426T150000Z
DTEND:20260426T160000Z
SUMMARY:Burial
DESCRIPTION:
URL:https://www.sanchezfuneralhomes.com/obituaries/roel-casas
LOCATION: 1043 W Canales 3rd St  Rio Grande City TX 78582
GEO:26.3883432;-98.8306587
END:VEVENT
END:VCALENDAR